BEGIN:VCALENDAR
VERSION:2.0
PRODID:-//hacksw/handcal//NONSGML v1.0//EN
BEGIN:VEVENT
SUMMARY:ronde de france
UID:adbb3783-5971-4d4b-9872-42e2f2db37d4
DTSTART:20260526T114500Z
DTEND:20260526T220000Z
LOCATION:Localisation   
CATEGORIES:Sportif
STATUS:
URL;VALUE=URI:https://bridgemennecy.club.ffbridge.fr/evenements/2026/05/26/ronde-de-france-2439614
END:VEVENT
END:VCALENDAR
